BEGIN:VCALENDAR
VERSION:2.0
PRODID:-//Anderson County SC Department of Education - ECPv6.15.20//NONSGML v1.0//EN
CALSCALE:GREGORIAN
METHOD:PUBLISH
X-ORIGINAL-URL:https://boardofed.net
X-WR-CALDESC:Events for Anderson County SC Department of Education
REFRESH-INTERVAL;VALUE=DURATION:PT1H
X-Robots-Tag:noindex
X-PUBLISHED-TTL:PT1H
BEGIN:VTIMEZONE
TZID:UTC
BEGIN:STANDARD
TZOFFSETFROM:+0000
TZOFFSETTO:+0000
TZNAME:UTC
DTSTART:20230101T000000
END:STANDARD
END:VTIMEZONE
BEGIN:VEVENT
DTSTART;TZID=UTC:20241217T180000
DTEND;TZID=UTC:20241217T190000
DTSTAMP:20260420T082803
CREATED:20240819T192119Z
LAST-MODIFIED:20240819T192119Z
UID:1436-1734458400-1734462000@boardofed.net
SUMMARY:December Board of Education Meeting
DESCRIPTION:Gray House\, Starr\, SC
URL:https://boardofed.net/event/december-board-of-education-meeting-2/
END:VEVENT
END:VCALENDAR